Workbook

Sheet CONUS PAGE 1
A1: Travel Group | C1: Move cursor over red triangle to view instructions | H1: Invoice # | I1: =IF(C$12=0," ",MAX(C12:H12)) | J1: PeopleSoft AP User: enter in PeopleSoft | K1: Trip DOL | L1: Mileage Date | M1: IRS Mileage Rate | N1: Ticket Type | O1: Per Diem Percent | P1: Travel Group | Q1: Group Code | R1: Expense Acct | S1: Transportation Acct | T1: DB Airfare Acct | U1: M&IE @ 100% | V1: Breakfast | W1: Lunch | X1: Dinner | Y1: Incidental | Z1: FY2022 Per Diem Rates - Effective October 1, 2021 | AA1: FY22 M&IE | AB1: TEST
A2: Calendar Year of Travel | B2: 2022 | C2: EFFECTIVE: 07/01/2022 | H2: Invoice Date | I2: =IF(C$12=0," ",MAX(C12:H12)) | J2: PeopleSoft AP User: enter in PeopleSoft | K2: H4999 | L2: 44743 | M2: 0.625 | N2: Original Ticket | O2: 1 | P2: NON-STAFF | Q2: 1 | R2: 5651-NON STAFF TRVL | S2: 5651-TRANSPORT | T2: 2122-NON STAFF DB AIRFARE | U2: 59 | V2: 13 | W2: 15 | X2: 26 | Y2: 5 | Z2: Standard CONUS rate applies to all counties not specifically listed. Cities not listed may be located in a listed county. | AA2: 59 | AB2: YES
A3: PeopleSoft Supplier ID | C3: NON STAFF TRAVEL AND EXPENSE FORM | H3: Voucher # | J3: PeopleSoft AP User: write Voucher # | K3: P4999 | L3: 44562 | M3: 0.585 | N3: Exchanged Ticket | O3: 0.75 | P3: GOV COMM | Q3: =Q2+1 -> 2 | R3: 5651-NON STAFF TRVL | S3: 5652-GOV TRANSPORT | T3: 2124-BOD DB AIRFARE | U3: 64 | V3: 14 | W3: 16 | X3: 29 | Y3: 5 | Z3: AL Birmingham Jefferson | AA3: 69 | AB3: NO
A4: Trip DOL | C4: GSA RATES: 10/01/21-09/30/22 | K4: R4999 | L4: 44926 | P4: VENDOR | Q4: =Q3+1 -> 3 | R4: 5650-VENDOR TRVL | S4: 5651-TRANSPORT | T4: 2122-NON STAFF DB AIRFARE | U4: 69 | V4: 16 | W4: 17 | X4: 31 | Y4: 5 | Z4: AL Gulf Shores Baldwin | AA4: 69
A5: Page | B5: 1 | K5: U4999 | P5: NCSEA | Q5: =Q4+1 -> 4 | R5: 8XXX-TRVL | S5: 8XXX-TRANSPORT | T5: 2122-NON STAFF DB AIRFARE | U5: 74 | V5: 17 | W5: 18 | X5: 34 | Y5: 5 | Z5: AL Mobile Mobile | AA5: 59
P6: NCESP | Q6: =Q5+1 -> 5 | R6: 8XXX-TRVL | S6: 8XXX-TRANSPORT | T6: 2122-NON STAFF DB AIRFARE | U6: 79 | V6: 18 | W6: 20 | X6: 36 | Y6: 5 | Z6: AR Hot Springs Garland | AA6: 64
P7: NCHE | Q7: =Q6+1 -> 6 | R7: 8XXX-TRVL | S7: 8XXX-TRANSPORT | T7: 2122-NON STAFF DB AIRFARE | Z7: AZ Grand Canyon / Flagstaff Coconino / Yavapai less the city of Sedona | AA7: 74
A8: Name | H8: Personal Charges Deducted | J8: enter positive amount | Q8: =Q7+1 -> 7 | R8: 8XXX-TRVL | S8: 8XXX-TRANSPORT | T8: 2122-NON STAFF DB AIRFARE | Z8: AZ Kayenta Navajo | AA8: 64
A9: Address | H9: Travel Advance | J9: enter positive amount | Z9: AZ Phoenix / Scottsdale Maricopa | AA9: 69
A10: Address | Z10: AZ Sedona City Limits of Sedona | AA10: 79
A11: Purpose of Trip | H11: Direct-Billed Lodging | I11: NO | Z11: AZ Tucson Pima | AA11: 64
A12: Date (mm/dd/yy) | J12: format mm/dd/yy | Z12: CA Antioch / Brentwood / Concord Contra Costa | AA12: 74
A13: Direct-Billed (DB) Airfare/Train: Select Drop-Down | B13: Ticket # | C13: Ticket Amount | I13: Total | Z13: CA Bakersfield / Ridgecrest Kern | AA13: 64
D14: =IF(C14<0,"ERROR NEGATIVE AMT"," ") | I14: =SUM(C14:H14) -> 0 | J14: attach supporting documentation | M14: =B14 -> 0 | Z14: CA Barstow / Ontario / Victorville San Bernardino | AA14: 64
D15: =IF(C15<0,"ERROR NEGATIVE AMT"," ") | I15: =SUM(C15:H15) -> 0 | J15: attach supporting documentation | M15: =B15 -> 0 | Z15: CA Death Valley Inyo / NAWS China Lake | AA15: 69
D16: =IF(C16<0,"ERROR NEGATIVE AMT"," ") | I16: =SUM(C16:H16) -> 0 | J16: attach supporting documentation | M16: =B16 -> 0 | Z16: CA Eureka / Arcata / McKinleyville Humboldt | AA16: 69
D17: =IF(C17<0,"ERROR NEGATIVE AMT"," ") | I17: =SUM(C17:H17) -> 0 | J17: attach supporting documentation | M17: =B17 -> 0 | Z17: CA Fresno Fresno | AA17: 69
A18: Total DB Ticket Amount | C18: =SUM(C14:C17) -> 0 | I18: =SUM(I14:I17) -> 0 | Z18: CA Los Angeles Los Angeles / Orange / Ventura / Edwards AFB less the city of Santa Monica | AA18: 74
A19: Destination | J19: select drop down box | Z19: CA Mammoth Lakes Mono | AA19: 79
A20: Per Diem Destination | C20: =IF(ISNA(VLOOKUP(C19,$Z2:$AA321,2,0)),"",VLOOKUP(C19,$Z2:$AA321,2,FALSE)) | D20: =IF(ISNA(VLOOKUP(D19,$Z2:$AA321,2,0)),"",VLOOKUP(D19,$Z2:$AA321,2,FALSE)) | E20: =IF(ISNA(VLOOKUP(E19,$Z2:$AA321,2,0)),"",VLOOKUP(E19,$Z2:$AA321,2,FALSE)) | F20: =IF(ISNA(VLOOKUP(F19,$Z2:$AA321,2,0)),"",VLOOKUP(F19,$Z2:$AA321,2,FALSE)) | G20: =IF(ISNA(VLOOKUP(G19,$Z2:$AA321,2,0)),"",VLOOKUP(G19,$Z2:$AA321,2,FALSE)) | H20: =IF(ISNA(VLOOKUP(H19,$Z2:$AA321,2,0)),"",VLOOKUP(H19,$Z2:$AA321,2,FALSE)) | Z20: CA Mill Valley / San Rafael / Novato Marin | AA20: 74
A21: Per Diem 75% or 100% | J21: select drop down box | Z21: CA Monterey Monterey | AA21: 74
A22: Meals & Incidental Exp Per Diem | C22: =C71 -> 0 | D22: =D71 -> 0 | E22: =E71 -> 0 | F22: =F71 -> 0 | G22: =G71 -> 0 | H22: =H71 -> 0 | Z22: CA Napa Napa | AA22: 79
A23: Provided-Breakfast | J23: select drop down box | Z23: CA Oakhurst Madera | AA23: 69
A24: Provided-Lunch | J24: select drop down box | Z24: CA Oakland Alameda | AA24: 74
A25: Provided-Dinner | J25: select drop down box | Z25: CA Palm Springs Riverside | AA25: 69
A26: TOTAL M&IE | C26: =C84 -> 0 | D26: =D84 -> 0 | E26: =E84 -> 0 | F26: =F84 -> 0 | G26: =G84 -> 0 | H26: =H84 -> 0 | I26: =SUM(C26:H26) -> 0 | Z26: CA Point Arena / Gualala Mendocino | AA26: 79
A27: Lodging/Overnight | I27: =SUM(C27:H27) -> 0 | J27: attach supporting documentation | Z27: CA Sacramento Sacramento | AA27: 69
A28: Baggage Fees | I28: =SUM(C28:H28) -> 0 | J28: attach supporting documentation | Z28: CA San Diego San Diego | AA28: 74
A29: MILEAGE: PERSONAL VEHICLE | J29: enter miles driven in personal vehicle | Z29: CA San Francisco San Francisco | AA29: 79
A30: Mileage Amount | C30: =IF(C$12="",C$94,IF(OR(C$12<$L$3,C$12>$L$4),"CHECK DATE",IF(C$12="",C$94,C$94))) -> 0 | D30: =IF(D$12="",D$94,IF(OR(D$12<$L$3,D$12>$L$4),"CHECK DATE",IF(D$12="",D$94,D$94))) -> 0 | E30: =IF(E$12="",E$94,IF(OR(E$12<$L$3,E$12>$L$4),"CHECK DATE",IF(E$12="",E$94,E$94))) -> 0 | F30: =IF(F$12="",F$94,IF(OR(F$12<$L$3,F$12>$L$4),"CHECK DATE",IF(F$12="",F$94,F$94))) -> 0 | G30: =IF(G$12="",G$94,IF(OR(G$12<$L$3,G$12>$L$4),"CHECK DATE",IF(G$12="",G$94,G$94))) -> 0 | H30: =IF(H$12="",H$94,IF(OR(H$12<$L$3,H$12>$L$4),"CHECK DATE",IF(H$12="",H$94,H$94))) -> 0 | I30: =SUM(C30:H30) -> 0 | J30: attach supporting documentation (MapQuest) | Z30: CA San Luis Obispo San Luis Obispo | AA30: 74
A31: Parking & Tolls | I31: =SUM(C31:H31) -> 0 | J31: attach supporting documentation | Z31: CA San Mateo / Foster City / Belmont San Mateo | AA31: 74
A32: Taxi, Rideshare, Shuttle | I32: =SUM(C32:H32) -> 0 | J32: attach supporting documentation | Z32: CA Santa Barbara Santa Barbara | AA32: 74
A33: Other | I33: =SUM(C33:H33) -> 0 | J33: move cursor over red triangle for instructions | Z33: CA Santa Cruz Santa Cruz | AA33: 69
A34: TOTAL | C34: =C$99 -> ENTER DATE | D34: =D$99 -> ENTER DATE | E34: =E$99 -> ENTER DATE | F34: =F$99 -> ENTER DATE | G34: =G$99 -> ENTER DATE | H34: =H$99 -> ENTER DATE | I34: =I$99 -> 0 | Z34: CA Santa Monica City limits of Santa Monica | AA34: 79
A35: EXPLANATIONS BY LINE NUMBER. Original itemized receipts required per policy. | G35: TOTAL DEDUCTIONS | I35: =-I109 -> 0 | Z35: CA Santa Rosa Sonoma | AA35: 74
G36: =IF(I36>=0,"DUE TRAVELER","TRAVELER OWES NEA") -> DUE TRAVELER | I36: =SUM(I34:I35) -> 0 | K36: =I36 -> 0 | Z36: CA South Lake Tahoe El Dorado | AA36: 74
Z37: CA Stockton San Joaquin | AA37: 74
Z38: CA Sunnyvale / Palo Alto / San Jose Santa Clara | AA38: 74
Z39: CA Tahoe City Placer | AA39: 74
A40: Account | B40: Cost Center | C40: Project | D40: SID | E40: DOL | F40: Voucher Line Description | G40: Jrnl Line Ref | H40: DEBIT (+) | I40: CREDIT (-) | Z40: CA Truckee Nevada | AA40: 79
...

Sheet CONUS PAGE 2
A1: Travel Group | C1: Move cursor over red triangle to view instructions | H1: Invoice # | I1: =IF(C$12=0," ",MAX(C12:H12)) | J1: PeopleSoft AP User: enter in PeopleSoft | K1: Trip DOL | L1: Mileage Date | M1: IRS Mileage Rate | N1: Ticket Type | O1: Per Diem Percent | P1: Travel Group | Q1: Group Code | R1: Expense Acct | S1: Transportation Acct | T1: DB Airfare Acct | U1: M&IE @ 100% | V1: Breakfast | W1: Lunch | X1: Dinner | Y1: Incidental | Z1: FY2022 Per Diem Rates - Effective October 1, 2021 | AA1: FY22 M&IE | AB1: TEST
A2: Calendar Year of Travel | B2: 2022 | C2: EFFECTIVE: 07/01/2022 | H2: Invoice Date | I2: =IF(C$12=0," ",MAX(C12:H12)) | J2: PeopleSoft AP User: enter in PeopleSoft | K2: H4999 | L2: 44743 | M2: 0.625 | N2: Original Ticket | O2: 1 | P2: NON-STAFF | Q2: 1 | R2: 5651-NON STAFF TRVL | S2: 5651-TRANSPORT | T2: 2122-NON STAFF DB AIRFARE | U2: 59 | V2: 13 | W2: 15 | X2: 26 | Y2: 5 | Z2: Standard CONUS rate applies to all counties not specifically listed. Cities not listed may be located in a listed county. | AA2: 59 | AB2: YES
A3: PeopleSoft Supplier ID | C3: NON STAFF TRAVEL AND EXPENSE FORM | H3: Voucher # | J3: PeopleSoft AP User: write Voucher # | K3: P4999 | L3: 44562 | M3: 0.585 | N3: Exchanged Ticket | O3: 0.75 | P3: GOV COMM | Q3: =Q2+1 -> 2 | R3: 5651-NON STAFF TRVL | S3: 5652-GOV TRANSPORT | T3: 2124-BOD DB AIRFARE | U3: 64 | V3: 14 | W3: 16 | X3: 29 | Y3: 5 | Z3: AL Birmingham Jefferson | AA3: 69 | AB3: NO
A4: Trip DOL | C4: GSA RATES: 10/01/21-09/30/22 | K4: R4999 | L4: 44926 | P4: VENDOR | Q4: =Q3+1 -> 3 | R4: 5650-VENDOR TRVL | S4: 5651-TRANSPORT | T4: 2122-NON STAFF DB AIRFARE | U4: 69 | V4: 16 | W4: 17 | X4: 31 | Y4: 5 | Z4: AL Gulf Shores Baldwin | AA4: 69
A5: Page | B5: 2 | K5: U4999 | P5: NCSEA | Q5: =Q4+1 -> 4 | R5: 8XXX-TRVL | S5: 8XXX-TRANSPORT | T5: 2122-NON STAFF DB AIRFARE | U5: 74 | V5: 17 | W5: 18 | X5: 34 | Y5: 5 | Z5: AL Mobile Mobile | AA5: 59
P6: NCESP | Q6: =Q5+1 -> 5 | R6: 8XXX-TRVL | S6: 8XXX-TRANSPORT | T6: 2122-NON STAFF DB AIRFARE | U6: 79 | V6: 18 | W6: 20 | X6: 36 | Y6: 5 | Z6: AR Hot Springs Garland | AA6: 64
P7: NCHE | Q7: =Q6+1 -> 6 | R7: 8XXX-TRVL | S7: 8XXX-TRANSPORT | T7: 2122-NON STAFF DB AIRFARE | Z7: AZ Grand Canyon / Flagstaff Coconino / Yavapai less the city of Sedona | AA7: 74
A8: Name | H8: Personal Charges Deducted | J8: enter positive amount | Q8: =Q7+1 -> 7 | R8: 8XXX-TRVL | S8: 8XXX-TRANSPORT | T8: 2122-NON STAFF DB AIRFARE | Z8: AZ Kayenta Navajo | AA8: 64
A9: Address | H9: Travel Advance | J9: enter positive amount | Z9: AZ Phoenix / Scottsdale Maricopa | AA9: 69
A10: Address | Z10: AZ Sedona City Limits of Sedona | AA10: 79
A11: Purpose of Trip | H11: Direct-Billed Lodging | I11: NO | Z11: AZ Tucson Pima | AA11: 64
A12: Date (mm/dd/yy) | J12: format mm/dd/yy | Z12: CA Antioch / Brentwood / Concord Contra Costa | AA12: 74
A13: Direct-Billed (DB) Airfare/Train: Select Drop-Down | B13: Ticket # | C13: Ticket Amount | I13: Total | Z13: CA Bakersfield / Ridgecrest Kern | AA13: 64
D14: =IF(C14<0,"ERROR NEGATIVE AMT"," ") | I14: =SUM(C14:H14) -> 0 | J14: attach supporting documentation | M14: =B14 -> 0 | Z14: CA Barstow / Ontario / Victorville San Bernardino | AA14: 64
D15: =IF(C15<0,"ERROR NEGATIVE AMT"," ") | I15: =SUM(C15:H15) -> 0 | J15: attach supporting documentation | M15: =B15 -> 0 | Z15: CA Death Valley Inyo / NAWS China Lake | AA15: 69
D16: =IF(C16<0,"ERROR NEGATIVE AMT"," ") | I16: =SUM(C16:H16) -> 0 | J16: attach supporting documentation | M16: =B16 -> 0 | Z16: CA Eureka / Arcata / McKinleyville Humboldt | AA16: 69
D17: =IF(C17<0,"ERROR NEGATIVE AMT"," ") | I17: =SUM(C17:H17) -> 0 | J17: attach supporting documentation | M17: =B17 -> 0 | Z17: CA Fresno Fresno | AA17: 69
A18: Total DB Ticket Amount | C18: =SUM(C14:C17) -> 0 | I18: =SUM(I14:I17) -> 0 | Z18: CA Los Angeles Los Angeles / Orange / Ventura / Edwards AFB less the city of Santa Monica | AA18: 74
A19: Destination | J19: select drop down box | Z19: CA Mammoth Lakes Mono | AA19: 79
A20: Per Diem Destination | C20: =IF(ISNA(VLOOKUP(C19,$Z2:$AA321,2,0)),"",VLOOKUP(C19,$Z2:$AA321,2,FALSE)) | D20: =IF(ISNA(VLOOKUP(D19,$Z2:$AA321,2,0)),"",VLOOKUP(D19,$Z2:$AA321,2,FALSE)) | E20: =IF(ISNA(VLOOKUP(E19,$Z2:$AA321,2,0)),"",VLOOKUP(E19,$Z2:$AA321,2,FALSE)) | F20: =IF(ISNA(VLOOKUP(F19,$Z2:$AA321,2,0)),"",VLOOKUP(F19,$Z2:$AA321,2,FALSE)) | G20: =IF(ISNA(VLOOKUP(G19,$Z2:$AA321,2,0)),"",VLOOKUP(G19,$Z2:$AA321,2,FALSE)) | H20: =IF(ISNA(VLOOKUP(H19,$Z2:$AA321,2,0)),"",VLOOKUP(H19,$Z2:$AA321,2,FALSE)) | Z20: CA Mill Valley / San Rafael / Novato Marin | AA20: 74
A21: Per Diem 75% or 100% | J21: select drop down box | Z21: CA Monterey Monterey | AA21: 74
A22: Meals & Incidental Exp Per Diem | C22: =C71 -> 0 | D22: =D71 -> 0 | E22: =E71 -> 0 | F22: =F71 -> 0 | G22: =G71 -> 0 | H22: =H71 -> 0 | Z22: CA Napa Napa | AA22: 79
A23: Provided-Breakfast | J23: select drop down box | Z23: CA Oakhurst Madera | AA23: 69
A24: Provided-Lunch | J24: select drop down box | Z24: CA Oakland Alameda | AA24: 74
A25: Provided-Dinner | J25: select drop down box | Z25: CA Palm Springs Riverside | AA25: 69
A26: TOTAL M&IE | C26: =C84 -> 0 | D26: =D84 -> 0 | E26: =E84 -> 0 | F26: =F84 -> 0 | G26: =G84 -> 0 | H26: =H84 -> 0 | I26: =SUM(C26:H26) -> 0 | Z26: CA Point Arena / Gualala Mendocino | AA26: 79
A27: Lodging/Overnight | I27: =SUM(C27:H27) -> 0 | J27: attach supporting documentation | Z27: CA Sacramento Sacramento | AA27: 69
A28: Baggage Fees | I28: =SUM(C28:H28) -> 0 | J28: attach supporting documentation | Z28: CA San Diego San Diego | AA28: 74
A29: MILEAGE: PERSONAL VEHICLE | J29: enter miles driven in personal vehicle | Z29: CA San Francisco San Francisco | AA29: 79
A30: Mileage Amount | C30: =IF(C$12="",C$94,IF(OR(C$12<$L$3,C$12>$L$4),"CHECK DATE",IF(C$12="",C$94,C$94))) -> 0 | D30: =IF(D$12="",D$94,IF(OR(D$12<$L$3,D$12>$L$4),"CHECK DATE",IF(D$12="",D$94,D$94))) -> 0 | E30: =IF(E$12="",E$94,IF(OR(E$12<$L$3,E$12>$L$4),"CHECK DATE",IF(E$12="",E$94,E$94))) -> 0 | F30: =IF(F$12="",F$94,IF(OR(F$12<$L$3,F$12>$L$4),"CHECK DATE",IF(F$12="",F$94,F$94))) -> 0 | G30: =IF(G$12="",G$94,IF(OR(G$12<$L$3,G$12>$L$4),"CHECK DATE",IF(G$12="",G$94,G$94))) -> 0 | H30: =IF(H$12="",H$94,IF(OR(H$12<$L$3,H$12>$L$4),"CHECK DATE",IF(H$12="",H$94,H$94))) -> 0 | I30: =SUM(C30:H30) -> 0 | J30: attach supporting documentation (MapQuest) | Z30: CA San Luis Obispo San Luis Obispo | AA30: 74
A31: Parking & Tolls | I31: =SUM(C31:H31) -> 0 | J31: attach supporting documentation | Z31: CA San Mateo / Foster City / Belmont San Mateo | AA31: 74
A32: Taxi, Rideshare, Shuttle | I32: =SUM(C32:H32) -> 0 | J32: attach supporting documentation | Z32: CA Santa Barbara Santa Barbara | AA32: 74
A33: Other | I33: =SUM(C33:H33) -> 0 | J33: move cursor over red triangle for instructions | Z33: CA Santa Cruz Santa Cruz | AA33: 69
A34: TOTAL | C34: =C$99 -> ENTER DATE | D34: =D$99 -> ENTER DATE | E34: =E$99 -> ENTER DATE | F34: =F$99 -> ENTER DATE | G34: =G$99 -> ENTER DATE | H34: =H$99 -> ENTER DATE | I34: =I$99 -> 0 | Z34: CA Santa Monica City limits of Santa Monica | AA34: 79
A35: EXPLANATIONS BY LINE NUMBER. Original itemized receipts required per policy. | G35: TOTAL DEDUCTIONS | I35: =-I109 -> 0 | Z35: CA Santa Rosa Sonoma | AA35: 74
G36: =IF(I36>=0,"DUE TRAVELER","TRAVELER OWES NEA") -> DUE TRAVELER | I36: =SUM(I34:I35) -> 0 | K36: =I36 -> 0 | Z36: CA South Lake Tahoe El Dorado | AA36: 74
Z37: CA Stockton San Joaquin | AA37: 74
Z38: CA Sunnyvale / Palo Alto / San Jose Santa Clara | AA38: 74
Z39: CA Tahoe City Placer | AA39: 74
A40: Account | B40: Cost Center | C40: Project | D40: SID | E40: DOL | F40: Voucher Line Description | G40: Jrnl Line Ref | H40: DEBIT (+) | I40: CREDIT (-) | Z40: CA Truckee Nevada | AA40: 79
...

Sheet OCONUS
A1: Travel Group | C1: Move cursor over red triangle to view instructions | H1: Invoice # | I1: =IF(C$12=0," ",MAX(C12:H12)) | J1: PeopleSoft AP User: enter in PeopleSoft | K1: ='CONUS PAGE 1'!K1 -> Trip DOL | L1: ='CONUS PAGE 1'!L1 -> Mileage Date | M1: ='CONUS PAGE 1'!M1 -> IRS Mileage Rate | N1: ='CONUS PAGE 1'!N1 -> Ticket Type | O1: ='CONUS PAGE 1'!O1 -> Per Diem Percent | P1: Travel Group | Q1: Group Code | R1: Expense Acct | S1: Transportation Acct | T1: DB Airfare Acct | U1: TEST
A2: Calendar Year of Travel | B2: 2022 | C2: ='CONUS PAGE 1'!C2 -> EFFECTIVE: 07/01/2022 | H2: Invoice Date | I2: =IF(C$12=0," ",MAX(C12:H12)) | J2: PeopleSoft AP User: enter in PeopleSoft | K2: ='CONUS PAGE 1'!K2 -> H4999 | L2: ='CONUS PAGE 1'!L2 -> 44743 | M2: ='CONUS PAGE 1'!M2 -> 0.625 | N2: ='CONUS PAGE 1'!N2 -> Original Ticket | O2: ='CONUS PAGE 1'!O2 -> 1 | P2: ='CONUS PAGE 1'!P2 -> NON-STAFF | Q2: ='CONUS PAGE 1'!Q2 -> 1 | R2: ='CONUS PAGE 1'!R2 -> 5651-NON STAFF TRVL | ... T2: ='CONUS PAGE 1'!T2 -> 2122-NON STAFF DB AIRFARE | U2: YES
A3: PeopleSoft Supplier ID | C3: ='CONUS PAGE 1'!C3 -> NON STAFF TRAVEL AND EXPENSE FORM | H3: Voucher # | J3: PeopleSoft AP User: write Voucher # | K3: ='CONUS PAGE 1'!K3 -> P4999 | L3: ='CONUS PAGE 1'!L3 -> 44562 | M3: ='CONUS PAGE 1'!M3 -> 0.585 | N3: ='CONUS PAGE 1'!N3 -> Exchanged Ticket | O3: ='CONUS PAGE 1'!O3 -> 0.75 | P3: ='CONUS PAGE 1'!P3 -> GOV COMM | Q3: ='CONUS PAGE 1'!Q3 -> 2 | R3: ='CONUS PAGE 1'!R3 -> 5651-NON STAFF TRVL | ... T3: ='CONUS PAGE 1'!T3 -> 2124-BOD DB AIRFARE | U3: NO
A4: Trip DOL | C4: OUTSIDE CONUS AND FOREIGN | K4: ='CONUS PAGE 1'!K4 -> R4999 | L4: ='CONUS PAGE 1'!L4 -> 44926 | M4: ='CONUS PAGE 1'!M4 -> 0 | P4: ='CONUS PAGE 1'!P4 -> VENDOR | Q4: ='CONUS PAGE 1'!Q4 -> 3 | R4: ='CONUS PAGE 1'!R4 -> 5650-VENDOR TRVL | S4: ='CONUS PAGE 1'!S4 -> 5651-TRANSPORT | T4: ='CONUS PAGE 1'!T4 -> 2122-NON STAFF DB AIRFARE
A5: Page | B5: 1 | K5: ='CONUS PAGE 1'!K5 -> U4999 | P5: ='CONUS PAGE 1'!P5 -> NCSEA | Q5: ='CONUS PAGE 1'!Q5 -> 4 | R5: ='CONUS PAGE 1'!R5 -> 8XXX-TRVL | S5: ='CONUS PAGE 1'!S5 -> 8XXX-TRANSPORT | T5: ='CONUS PAGE 1'!T5 -> 2122-NON STAFF DB AIRFARE
P6: ='CONUS PAGE 1'!P6 -> NCESP | Q6: ='CONUS PAGE 1'!Q6 -> 5 | R6: ='CONUS PAGE 1'!R6 -> 8XXX-TRVL | S6: ='CONUS PAGE 1'!S6 -> 8XXX-TRANSPORT | T6: ='CONUS PAGE 1'!T6 -> 2122-NON STAFF DB AIRFARE
P7: ='CONUS PAGE 1'!P7 -> NCHE | Q7: ='CONUS PAGE 1'!Q7 -> 6 | R7: ='CONUS PAGE 1'!R7 -> 8XXX-TRVL | S7: ='CONUS PAGE 1'!S7 -> 8XXX-TRANSPORT | T7: ='CONUS PAGE 1'!T7 -> 2122-NON STAFF DB AIRFARE
A8: Name | H8: Personal Charges Deducted | J8: enter positive amount | P8: ='CONUS PAGE 1'!P8 -> 0 | Q8: ='CONUS PAGE 1'!Q8 -> 7 | R8: ='CONUS PAGE 1'!R8 -> 8XXX-TRVL | S8: ='CONUS PAGE 1'!S8 -> 8XXX-TRANSPORT | T8: ='CONUS PAGE 1'!T8 -> 2122-NON STAFF DB AIRFARE
A9: Address | H9: Travel Advance | J9: enter positive amount
A10: Address
A11: Purpose of Trip | H11: Direct-Billed Lodging | I11: NO
A12: Date (mm/dd/yy) | J12: format mm/dd/yy
A13: Direct-Billed (DB) Airfare/Train: Select Drop-Down | B13: Ticket # | C13: Ticket Amount | I13: Total
D14: =IF(C14<0,"ERROR NEGATIVE AMT"," ") | I14: =SUM(C14:H14) -> 0 | J14: attach supporting documentation | M14: =B14 -> 0
D15: =IF(C15<0,"ERROR NEGATIVE AMT"," ") | I15: =SUM(C15:H15) -> 0 | J15: attach supporting documentation | M15: =B15 -> 0
D16: =IF(C16<0,"ERROR NEGATIVE AMT"," ") | I16: =SUM(C16:H16) -> 0 | J16: attach supporting documentation | M16: =B16 -> 0
D17: =IF(C17<0,"ERROR NEGATIVE AMT"," ") | I17: =SUM(C17:H17) -> 0 | J17: attach supporting documentation | M17: =B17 -> 0
A18: Total DB Ticket Amount | C18: =SUM(C14:C17) -> 0 | I18: =SUM(C18:H18) -> 0
A19: Destination-enter each day of travel | J19: enter destination
A20: Total Per Diem Destination-each day of travel | J20: move cursor over red triangle for instructions
A21: Per Diem 75% or 100%-select each day of travel | J21: select drop down box: either 100% or 75%
A22: Meals & Incidental Exp Per Diem | C22: =C60 -> 0 | D22: =D60 -> 0 | E22: =E60 -> 0 | F22: =F60 -> 0 | G22: =G60 -> 0 | H22: =H60 -> 0 | J22: automatic calculation
A23: Incidental Per Diem | J23: move cursor over red triangle for instructions
A24: Provided-Breakfast | J24: move cursor over red triangle for instructions
A25: Provided-Lunch | J25: move cursor over red triangle for instructions
A26: Provided-Dinner | J26: move cursor over red triangle for instructions
A27: TOTAL M&IE | C27: =C73 -> 0 | D27: =D73 -> 0 | E27: =E73 -> 0 | F27: =F73 -> 0 | G27: =G73 -> 0 | H27: =H73 -> 0 | I27: =SUM(C27:H27) -> 0 | J27: automatic calculation
A28: Lodging/Overnight | I28: =SUM(C28:H28) -> 0 | J28: attach supporting documentation
A29: Baggage Fees | I29: =SUM(C29:H29) -> 0 | J29: attach supporting documentation
A30: MILEAGE: PERSONAL VEHICLE | J30: enter miles driven in personal vehicle
A31: Mileage Amount | C31: =IF(C$12="",C$80,IF(OR(C$12<$L$3,C$12>$L$4),"CHECK DATE",IF(C$12="",C$80,C$80))) -> 0 | D31: =IF(D$12="",D$80,IF(OR(D$12<$L$3,D$12>$L$4),"CHECK DATE",IF(D$12="",D$80,D$80))) -> 0 | E31: =IF(E$12="",E$80,IF(OR(E$12<$L$3,E$12>$L$4),"CHECK DATE",IF(E$12="",E$80,E$80))) -> 0 | F31: =IF(F$12="",F$80,IF(OR(F$12<$L$3,F$12>$L$4),"CHECK DATE",IF(F$12="",F$80,F$80))) -> 0 | G31: =IF(G$12="",G$80,IF(OR(G$12<$L$3,G$12>$L$4),"CHECK DATE",IF(G$12="",G$80,G$80))) -> 0 | H31: =IF(H$12="",H$80,IF(OR(H$12<$L$3,H$12>$L$4),"CHECK DATE",IF(H$12="",H$80,H$80))) -> 0 | I31: =SUM(C31:H31) -> 0 | J31: attach supporting documentation (MapQuest)
A32: Parking & Tolls | I32: =SUM(C32:H32) -> 0 | J32: attach supporting documentation
A33: Taxi, Rideshare, Shuttle | I33: =SUM(C33:H33) -> 0 | J33: attach supporting documentation
A34: Other | I34: =SUM(C34:H34) -> 0 | J34: move cursor over red triangle for instructions
A35: TOTAL | C35: =C$85 -> ENTER DATE | D35: =D$85 -> ENTER DATE | E35: =E$85 -> ENTER DATE | F35: =F$85 -> ENTER DATE | G35: =G$85 -> ENTER DATE | H35: =H$85 -> ENTER DATE | I35: =I$85 -> 0
A36: EXPLANATIONS BY LINE NUMBER. Original itemized receipts required per policy. | G36: TOTAL DEDUCTIONS | I36: =-I95 -> 0
G37: =IF(I37>=0,"DUE TRAVELER","TRAVELER OWES NEA") -> DUE TRAVELER | I37: =SUM(I35:I36) -> 0 | K37: =I37 -> 0
A41: Account | B41: Cost Center | C41: Project | D41: SID | E41: DOL | F41: Voucher Line Description | G41: Jrnl Line Ref | H41: DEBIT (+) | I41: CREDIT (-)
A42: =IF($B$75=1,R$2,IF($B$75=2,R$3,IF($B$75=3,R$4,IF($B$75=4,R$5,IF($B$75=5,R$6,IF($B$75=6,R$7,IF($B$75=7,R$8,IF($B$75=8,R$9,IF($B$75=9,R$10,IF($B$75=10,R$11,IF($B$75=11,R$12,IF($B$75=12,R$13)))))))))))) -> 8XXX-TRVL | E42: =B$4 -> 0 | F42: =O42 -> 1/00/00- 0 | H42: =O51 -> 0 | K42: =C$12 -> 0 | L42: =I$1 | M42: =C$11 -> 0 | O42: =CONCATENATE(TEXT(K42,("m/dd/yy")), "-", TEXT(L42,("m/dd/yy")), " ", M42) -> 1/00/00- 0
A43: =IF($B$75=1,S$2,IF($B$75=2,S$3,IF($B$75=3,S$4,IF($B$75=4,S$5,IF($B$75=5,S$6,IF($B$75=6,S$7,IF($B$75=7,S$8,IF($B$75=8,S$9,IF($B$75=9,S$10,IF($B$75=10,S$11,IF($B$75=11,S$12,IF($B$75=12,S$13)))))))))))) -> 8XXX-TRANSPORT | B43: =B$42 -> 0 | C43: =C$42 -> 0 | D43: =D$42 -> 0 | E43: =B$4 -> 0 | F43: =O43 -> 1/00/00- 0 | H43: =SUMIF($C$35:$H$35,"<>ENTER DATE",$C97:$H97) -> 0 | K43: =C$12 -> 0 | L43: =I$1 | M43: =C$11 -> 0 | O43: =CONCATENATE(TEXT(K43,("m/dd/yy")), "-", TEXT(L43,("m/dd/yy")), " ", M43) -> 1/00/00- 0
...

Sheet WEBSITE LINKS
A1: GENERAL SERVICES ADMINISTRATION (GSA) = CONUS | B1: WEBSITE - CONUS
A2: Use for travel destinations within CONUS (the Continental United States). International travel and to Alaska and Hawaii should be reported on OCONUS tab. | B2: https://www.gsa.gov/travel/plan-book/per-diem-rates
A4: What if a city is not listed on the CONUS Per Diem website? If a city is not listed, 1. Determine (via google, etc.) the county the city is located. 2. Per GSA website, if COUNTY is listed, use that COUNTY per diem rate. If the city and the county are not listed, then that area receives the standard CONUS location rate for meals and incidental expenses. | B4: https://www.gsa.gov/travel/plan-book/per-diem-rates
A7: DEPARTMENT OF DEFENSE = OCONUS | B7: WEBSITE - OCONUS
A8: The Department of Defense sets rates for Alaska, Hawaii, U.S. Territories, and Possessions (OCONUS rates). Website rates may be PUBLISHED monthly; therefore, access rates for each travel date and determine the effective date of rate. Per Diem Rate = Local Meals + Local Incidentals. Per Diem Rates must be manually entered on the Travel Expense Form. Print and attach rate to the Travel Expense Form. | B8: https://www.defensetravel.dod.mil/site/perdiemCalc.cfm
A11: DEPARTMENT OF STATE = FOREIGN | B11: WEBSITE - FOREIGN
A12: The Department of State (DOS) prescribes rates for foreign overseas locations. Website rates may be PUBLISHED monthly; therefore, access rates for each travel date and determine the effective date of rate. Per Diem Rates must be manually entered on the Travel Expense Form. Print and attach rate to Travel Expense Form. | B12: https://aoprals.state.gov/web920/per_diem.asp
A14: M&IE (Meals & Incidental Expenses) are reported separately followed by a combined daily rate. The breakdown of rates by meals and incidentals is found in Appendix B. | B14: https://aoprals.state.gov/content.asp?content_id=114&menu_id=75

Sheet FY22 GSA
A1: FY2022 Per Diem Rates - Effective October 1, 2021 | B1: FY22 M&IE
A2: Standard CONUS rate applies to all counties not specifically listed. Cities not listed may be located in a listed county. | B2: 59
A3: AL Birmingham Jefferson | B3: 69
A4: AL Gulf Shores Baldwin | B4: 69
A5: AL Mobile Mobile | B5: 59
A6: AR Hot Springs Garland | B6: 64
A7: AZ Grand Canyon / Flagstaff Coconino / Yavapai less the city of Sedona | B7: 74
A8: AZ Kayenta Navajo | B8: 64
A9: AZ Phoenix / Scottsdale Maricopa | B9: 69
A10: AZ Sedona City Limits of Sedona | B10: 79
A11: AZ Tucson Pima | B11: 64
A12: CA Antioch / Brentwood / Concord Contra Costa | B12: 74
A13: CA Bakersfield / Ridgecrest Kern | B13: 64
... A321: WY Rock Springs Sweetwater | B321: 69
B322: =SUM(B2:B321) -> 21775
